Workbook
Name Text19: 'NCCTC Booking Form'!$K$31
Name Text2: 'NCCTC Booking Form'!$X$7
Name Text24: 'NCCTC Booking Form'!$J$38
Name Text25: 'NCCTC Booking Form'!$W$35
Name Text26: 'NCCTC Booking Form'!$W$36
Name Text27: 'NCCTC Booking Form'!$W$37
Name Text28: 'NCCTC Booking Form'!$W$38
Name Text31: 'NCCTC Booking Form'!$J$35
Name Text32: 'NCCTC Booking Form'!$J$36
Name Text33: 'NCCTC Booking Form'!$J$37
Name Text34: 'NCCTC Booking Form'!$I$7
Name Text35: 'NCCTC Booking Form'!#REF!
Name Text36: 'NCCTC Booking Form'!$N$15
Name Text37: 'NCCTC Booking Form'!$U$10
Name Text38: 'NCCTC Booking Form'!$H$17
Name Text40: 'NCCTC Booking Form'!$G$25
Name Text41: 'NCCTC Booking Form'!$H$26
Name Text42: 'NCCTC Booking Form'!$H$27
Name Text43: 'NCCTC Booking Form'!$H$28
Name Text44: 'NCCTC Booking Form'!$V$25
Name Text45: 'NCCTC Booking Form'!$V$26
Name Text46: 'NCCTC Booking Form'!$V$27
Name Text47: 'NCCTC Booking Form'!$V$28
Name Text48: 'NCCTC Booking Form'!$Y$31
Name Text49: 'NCCTC Booking Form'!$Y$46
Name Text6: 'NCCTC Booking Form'!$Z$15
Name Text9: 'NCCTC Booking Form'!$U$17

Sheet Invoice
A2: Cash
A3: Check | C3: Payment to NCCTC Ltd 53 Clapham Terrace Leamington Spa CV31 1HZ | L3: Invoice No. | M3: NCCTC2022AE
A4: Credit
A5: Other
M7: INVOICE
C9: Contact Details Mobile 07598450728 or 01926 741 811 Email payments@ncctc.co.uk
C13: Customer | D13: ='NCCTC Booking Form'!E10 -> 0
C15: Name | D15: ='NCCTC Booking Form'!E18 -> 0 | L15: Date | M15: 44652
C16: Address | D16: ='NCCTC Booking Form'!E11 -> 0 | L16: Order No. | M16: ='NCCTC Booking Form'!E17 -> 0
D17: ='NCCTC Booking Form'!E12 -> 0 | L17: Company No | M17: 10223457
D18: ='NCCTC Booking Form'!E13 -> 0
D19: ='NCCTC Booking Form'!E14 -> 0
C20: City | D20: ='NCCTC Booking Form'!E15 -> 0 | L20: VAT No. | M20: 250 7604 21
C21: Post Code | D21: ='NCCTC Booking Form'!E16 -> 0
C22: Qty | D22: Description | L22: Unit Price | M22: TOTAL
C23: ='NCCTC Booking Form'!E22 -> 0 | D23: Conference Delegate Rate- EARLY BIRD for THE Commissioners' Conference- Health & Adult Social Care 1st & 2nd December 2022 | L23: 175 | M23: =IF(L23<>"",ROUND(L23*C23,2),"") -> 0
D24: Conference Facilities Bedroom with First Conference Estate Limited
D25: Charged at £137.33 (including VAT) per person 247 1605 14 | M25: =IF(L25<>"",ROUND(L25*C25,2),"")
D26: The VAT show under the hotel billback arrangement is your input | M26: =IF(L26<>"",ROUND(L26*C26,2),"")
D27: tax which can be reclaimed subject to the normal rules | M27: =IF(L27<>"",ROUND(L27*C27,2),"")
D28: Delegates: | M28: =IF(L28<>"",ROUND(L28*C28,2),"")
D29: ='Delegate info'!A1 -> 0 | E29: ='Delegate info'!B1 -> 0
D30: ='Delegate info'!A2 -> 0 | E30: ='Delegate info'!B2 -> 0 | M30: =IF(L30<>"",ROUND(L30*C30,2),"")
D31: ='Delegate info'!A3 -> 0 | E31: ='Delegate info'!B3 -> 0 | M31: =IF(L31<>"",ROUND(L31*C31,2),"")
D32: ='Delegate info'!A4 -> 0 | E32: ='Delegate info'!B4 -> 0 | M32: =IF(L32<>"",ROUND(L32*C32,2),"")
C33: ='NCCTC Booking Form'!K22 -> 0 | D33: Day Delegates: | L33: 85 | M33: =IF(L33<>"",ROUND(L33*C33,2),"") -> 0
M34: =IF(L34<>"",ROUND(L34*C34,2),"")
M35: =IF(L35<>"",ROUND(L35*C35,2),"")
M36: =IF(L36<>"",ROUND(L36*C36,2),"")
D37: Account | M37: =IF(L37<>"",ROUND(L37*C37,2),"")
D38: Sort 40-27-06 | M38: =IF(L38<>"",ROUND(L38*C38,2),"")
D39: Ac 92399679 | M39: =IF(L39<>"",ROUND(L39*C39,2),"")
D40: NCCTC Ltd | M40: =IF(L40<>"",ROUND(L40*C40,2),"")
L41: SubTotal | M41: =SUM((M23)-L45) -> 0
J42: VAT | L42: 0.2 | M42: =SUM(M41*0.2) -> 0
C43: Payment | J43: INVOICE AMOUNT | M43: =SUM(M40:M42) -> 0
D44: Due to an EU ruling, it is necessary to separate this invoice into two sections. For the avoidance of doubt the Amount Payable is the amount in PINK and includes the Total hotel Billback charges. The Payment Terms of the Amount Payable is 30 days please. | H44: Hotel Billback transactions:
H45: Accommodation | L45: =SUM(C23*51.03) -> 0
H46: VAT | L46: =SUM(L45*20%) -> 0
H47: Total hotel Billback charges | M47: =SUM(L45:L46) -> 0
...

Sheet NCCTC Booking Form
C3: BOOKING FORM The Commissioners' Conference - at the Birmingham Conference & Events Centre Improving the Commissioning of Therapeutic Support for Children in Care | L3: www.commissionersconference.co.uk
C7: 9.30am-4.30pm 15th September 2026
C8: Complete and Return to payments@commissionersconference.co.uk | K8: Booking Form
C10: Organisation
C11: Invoicing Address | H11: Delegate Address if Different
D15: City | J15: City
D16: Postcode | J16: Postcode
B17: Purchase Order Number | I17: Contact email address
B18: Invoice Name | I18: Contact Name
B19: Invoice email address | I19: Tel. Number
B20: Tel. Number
B22: Number of Delegates
B24: Delegate Details. | N24: Consent to be part of delegate list
C25: First Name | E25: Last Name | G25: Job Role | J25: Email Address | N25: Yes | O25: No
B26: Delegate 1
B29: Delegate 2
B32: Delegate 3
B35: Delegate 4
D37: If listing other people you are confirming that you have their permission to share their details with us.
B39: Payment Details
C40: You will be invoiced upon receipt of the booking form.
C42: PUBLIC SECTOR: Early Booking (before 31st July 2026) Rate £125.00 plus VAT. Bookings made on and after 1st August 2026 will be £175.00 plus VAT
C45: NON PUBLIC SECTOR: Early Booking (before 31st July 2026) Rate £175.00 plus VAT. Bookings made on and after 1st August 2026 will be £250.00 plus VAT
C51: Payment Details - Cheque payable to NCCTC LTD - BACS NCCTC Ltd - sort 40-27-06 a/c 92399679 Please Note Cancellations made within 45 days of the event are liable for full fee. Substitutes allowed.
C55: NCCTC LTD trading as The Commissioners' Conference 53 Clapham Terrace, Leamington Spa CV31 1HZ
D61: Thank you for your custom

Sheet Delegate info
A1: ='NCCTC Booking Form'!C26 -> 0 | B1: ='NCCTC Booking Form'!E26 -> 0 | C1: ='NCCTC Booking Form'!G26 -> 0 | D1: ='NCCTC Booking Form'!J26 -> 0 | E1: ='NCCTC Booking Form'!E10 -> 0 | F1: ='NCCTC Booking Form'!N26 -> 0
A2: ='NCCTC Booking Form'!C29 -> 0 | B2: ='NCCTC Booking Form'!E29 -> 0 | C2: ='NCCTC Booking Form'!G29 -> 0 | D2: ='NCCTC Booking Form'!J29 -> 0 | E2: ='NCCTC Booking Form'!E10 -> 0 | F2: ='NCCTC Booking Form'!N29 -> 0
A3: ='NCCTC Booking Form'!C32 -> 0 | B3: ='NCCTC Booking Form'!E32 -> 0 | C3: ='NCCTC Booking Form'!G32 -> 0 | D3: ='NCCTC Booking Form'!J32 -> 0 | E3: ='NCCTC Booking Form'!E10 -> 0 | F3: ='NCCTC Booking Form'!N32 -> 0
A4: ='NCCTC Booking Form'!C35 -> 0 | B4: ='NCCTC Booking Form'!E35 -> 0 | C4: ='NCCTC Booking Form'!G35 -> 0 | D4: ='NCCTC Booking Form'!J35 -> 0 | E4: ='NCCTC Booking Form'!E10 -> 0 | F4: ='NCCTC Booking Form'!N35 -> 0
